BEGIN:VCALENDAR
VERSION:2.0
PRODID:-//Four Winds Anglican Mission - ECPv6.15.17//NONSGML v1.0//EN
CALSCALE:GREGORIAN
METHOD:PUBLISH
X-WR-CALNAME:Four Winds Anglican Mission
X-ORIGINAL-URL:http://www.fourwindsmission.com
X-WR-CALDESC:Events for Four Winds Anglican Mission
REFRESH-INTERVAL;VALUE=DURATION:PT1H
X-Robots-Tag:noindex
X-PUBLISHED-TTL:PT1H
BEGIN:VTIMEZONE
TZID:America/Chicago
BEGIN:DAYLIGHT
TZOFFSETFROM:-0600
TZOFFSETTO:-0500
TZNAME:CDT
DTSTART:20170312T080000
END:DAYLIGHT
BEGIN:STANDARD
TZOFFSETFROM:-0500
TZOFFSETTO:-0600
TZNAME:CST
DTSTART:20171105T070000
END:STANDARD
BEGIN:DAYLIGHT
TZOFFSETFROM:-0600
TZOFFSETTO:-0500
TZNAME:CDT
DTSTART:20180311T080000
END:DAYLIGHT
BEGIN:STANDARD
TZOFFSETFROM:-0500
TZOFFSETTO:-0600
TZNAME:CST
DTSTART:20181104T070000
END:STANDARD
BEGIN:DAYLIGHT
TZOFFSETFROM:-0600
TZOFFSETTO:-0500
TZNAME:CDT
DTSTART:20190310T080000
END:DAYLIGHT
BEGIN:STANDARD
TZOFFSETFROM:-0500
TZOFFSETTO:-0600
TZNAME:CST
DTSTART:20191103T070000
END:STANDARD
END:VTIMEZONE
BEGIN:VEVENT
DTSTART;TZID=America/Chicago:20180121T100000
DTEND;TZID=America/Chicago:20180121T113000
DTSTAMP:20260420T224440
CREATED:20180122T031906Z
LAST-MODIFIED:20180122T031906Z
UID:890-1516528800-1516534200@www.fourwindsmission.com
SUMMARY:SUNDAY WORSHIP
DESCRIPTION:
URL:http://www.fourwindsmission.com/event/sunday-worship-2/
END:VEVENT
BEGIN:VEVENT
DTSTART;TZID=America/Chicago:20180114T100000
DTEND;TZID=America/Chicago:20180114T113000
DTSTAMP:20260420T224440
CREATED:20180110T065824Z
LAST-MODIFIED:20180110T065824Z
UID:873-1515924000-1515929400@www.fourwindsmission.com
SUMMARY:SUNDAY WORSHIP
DESCRIPTION:
URL:http://www.fourwindsmission.com/event/sunday-worship/
LOCATION:4Winds Mission
CATEGORIES:Service
END:VEVENT
BEGIN:VEVENT
DTSTART;TZID=America/Chicago:20180112T180000
DTEND;TZID=America/Chicago:20180114T180000
DTSTAMP:20260420T224440
CREATED:20180110T055013Z
LAST-MODIFIED:20180110T071737Z
UID:856-1515780000-1515952800@www.fourwindsmission.com
SUMMARY:MEN'S RETREAT
DESCRIPTION:“STEP UP” – Learning to step up and out of the rut
URL:http://www.fourwindsmission.com/event/mens-retreat/
CATEGORIES:Special Event
ATTACH;FMTTYPE=image/png:http://www.fourwindsmission.com/wp-content/uploads/2018/01/Step-UP.png
END:VEVENT
BEGIN:VEVENT
DTSTART;TZID=America/Chicago:20180110T180000
DTEND;TZID=America/Chicago:20180110T200000
DTSTAMP:20260420T224440
CREATED:20180110T070517Z
LAST-MODIFIED:20180110T070517Z
UID:879-1515607200-1515614400@www.fourwindsmission.com
SUMMARY:LIFE GROUP STUDY
DESCRIPTION:Join us for a discussion on Chapter 15 from the book “A Long Obedience In The Same Direction”
URL:http://www.fourwindsmission.com/event/life-group-study-2/
LOCATION:4Winds Mission
ATTACH;FMTTYPE=image/jpeg:http://www.fourwindsmission.com/wp-content/uploads/2018/01/A-Long-Obedience-In-The-Same-Direction.jpg
END:VEVENT
END:VCALENDAR